Package: a4 Version: 1.54.0 Command: /home/biocbuild/R/R/bin/R CMD build --keep-empty-dirs --no-resave-data a4 StartedAt: 2025-02-03 21:31:54 -0000 (Mon, 03 Feb 2025) EndedAt: 2025-02-03 21:34:50 -0000 (Mon, 03 Feb 2025) EllapsedTime: 176.1 seconds RetCode: 0 Status: OK PackageFile: a4_1.54.0.tar.gz PackageFileSize: 1.194 MiB