Package: a4 Version: 1.54.0 Command: /home/biocbuild/R/R/bin/R CMD check --install=check:a4.install-out.txt --library=/home/biocbuild/R/R/site-library --no-vignettes --timings a4_1.54.0.tar.gz StartedAt: 2025-02-04 04:11:10 -0000 (Tue, 04 Feb 2025) EndedAt: 2025-02-04 04:12:39 -0000 (Tue, 04 Feb 2025) EllapsedTime: 89.2 seconds RetCode: 0 Status: OK CheckDir: a4.Rcheck Warnings: 0