Package: a4 Version: 1.54.0 Command: /home/biocbuild/R/R/bin/R CMD INSTALL a4 StartedAt: 2025-02-03 21:10:07 -0000 (Mon, 03 Feb 2025) EndedAt: 2025-02-03 21:10:32 -0000 (Mon, 03 Feb 2025) EllapsedTime: 24.2 seconds RetCode: 0 Status: OK