Package: a4Base Version: 1.54.0 Command: /Library/Frameworks/R.framework/Resources/bin/R CMD INSTALL a4Base StartedAt: 2025-01-30 17:29:29 -0500 (Thu, 30 Jan 2025) EndedAt: 2025-01-30 17:29:53 -0500 (Thu, 30 Jan 2025) EllapsedTime: 23.9 seconds RetCode: 0 Status: OK