Package: a4Base Version: 1.54.0 Command: /home/biocbuild/bbs-3.20-bioc/R/bin/R CMD INSTALL a4Base StartedAt: 2025-01-30 15:47:35 -0500 (Thu, 30 Jan 2025) EndedAt: 2025-01-30 15:47:55 -0500 (Thu, 30 Jan 2025) EllapsedTime: 20.4 seconds RetCode: 0 Status: OK