Package: a4Base Version: 1.54.0 Command: rm -rf a4Base.buildbin-libdir && mkdir a4Base.buildbin-libdir && F:\biocbuild\bbs-3.20-bioc\R\bin\R.exe CMD INSTALL --build --library=a4Base.buildbin-libdir a4Base_1.54.0.tar.gz StartedAt: 2025-01-31 08:06:07 -0500 (Fri, 31 Jan 2025) EndedAt: 2025-01-31 08:07:02 -0500 (Fri, 31 Jan 2025) EllapsedTime: 54.6 seconds RetCode: 0 Status: OK PackageFile: a4Base_1.54.0.zip PackageFileSize: 573.8 KiB