Package: a4Base Version: 1.54.0 Command: F:\biocbuild\bbs-3.20-bioc\R\bin\R.exe CMD check --no-multiarch --install=check:a4Base.install-out.txt --library=F:\biocbuild\bbs-3.20-bioc\R\library --no-vignettes --timings a4Base_1.54.0.tar.gz StartedAt: 2025-01-30 23:13:55 -0500 (Thu, 30 Jan 2025) EndedAt: 2025-01-30 23:17:42 -0500 (Thu, 30 Jan 2025) EllapsedTime: 227.3 seconds RetCode: 0 Status: OK CheckDir: a4Base.Rcheck Warnings: 0