Package: a4Base Version: 1.54.0 Command: F:\biocbuild\bbs-3.20-bioc\R\bin\R.exe CMD INSTALL a4Base StartedAt: 2025-01-30 16:35:58 -0500 (Thu, 30 Jan 2025) EndedAt: 2025-01-30 16:36:35 -0500 (Thu, 30 Jan 2025) EllapsedTime: 37.1 seconds RetCode: 0 Status: OK