Package: a4Base Version: 1.54.0 Command: /home/biocbuild/R/R/bin/R CMD check --install=check:a4Base.install-out.txt --library=/home/biocbuild/R/R/site-library --no-vignettes --timings a4Base_1.54.0.tar.gz StartedAt: 2025-01-31 03:41:40 -0000 (Fri, 31 Jan 2025) EndedAt: 2025-01-31 03:45:56 -0000 (Fri, 31 Jan 2025) EllapsedTime: 256.6 seconds RetCode: 0 Status: OK CheckDir: a4Base.Rcheck Warnings: 0