Package: a4Base Version: 1.54.0 Command: /home/biocbuild/R/R/bin/R CMD INSTALL a4Base StartedAt: 2025-01-30 20:54:18 -0000 (Thu, 30 Jan 2025) EndedAt: 2025-01-30 20:54:45 -0000 (Thu, 30 Jan 2025) EllapsedTime: 26.5 seconds RetCode: 0 Status: OK