Package: a4Preproc Version: 1.54.0 Command: /Library/Frameworks/R.framework/Resources/bin/R CMD check --install=check:a4Preproc.install-out.txt --library=/Library/Frameworks/R.framework/Resources/library --no-vignettes --timings a4Preproc_1.54.0.tar.gz StartedAt: 2025-02-03 23:28:42 -0500 (Mon, 03 Feb 2025) EndedAt: 2025-02-03 23:29:55 -0500 (Mon, 03 Feb 2025) EllapsedTime: 72.6 seconds RetCode: 0 Status: OK CheckDir: a4Preproc.Rcheck Warnings: 0