Package: a4Reporting Version: 1.54.0 Command: /Library/Frameworks/R.framework/Resources/bin/R CMD build --keep-empty-dirs --no-resave-data a4Reporting StartedAt: 2025-02-03 18:23:43 -0500 (Mon, 03 Feb 2025) EndedAt: 2025-02-03 18:23:50 -0500 (Mon, 03 Feb 2025) EllapsedTime: 6.9 seconds RetCode: 0 Status: OK PackageFile: a4Reporting_1.54.0.tar.gz PackageFileSize: 292.9 KiB