Package: a4Reporting Version: 1.54.0 Command: /Library/Frameworks/R.framework/Resources/bin/R CMD INSTALL a4Reporting StartedAt: 2025-02-03 15:12:07 -0500 (Mon, 03 Feb 2025) EndedAt: 2025-02-03 15:12:10 -0500 (Mon, 03 Feb 2025) EllapsedTime: 3.2 seconds RetCode: 0 Status: OK