Package: a4Reporting Version: 1.54.0 Command: rm -rf a4Reporting.buildbin-libdir && mkdir a4Reporting.buildbin-libdir && /Users/biocbuild/BBS/utils/build-universal.sh a4Reporting_1.54.0.tar.gz /Library/Frameworks/R.framework/Resources/bin/R a4Reporting.buildbin-libdir StartedAt: 2025-01-31 12:17:51 -0500 (Fri, 31 Jan 2025) EndedAt: 2025-01-31 12:17:58 -0500 (Fri, 31 Jan 2025) EllapsedTime: 7.4 seconds RetCode: 0 Status: OK PackageFile: a4Reporting_1.54.0.tgz PackageFileSize: 427.6 KiB