Package: a4Reporting Version: 1.54.0 Command: /Library/Frameworks/R.framework/Resources/bin/R CMD INSTALL a4Reporting StartedAt: 2025-01-30 15:07:54 -0500 (Thu, 30 Jan 2025) EndedAt: 2025-01-30 15:08:18 -0500 (Thu, 30 Jan 2025) EllapsedTime: 24.2 seconds RetCode: 0 Status: OK