Package: a4Reporting Version: 1.54.0 Command: /home/biocbuild/bbs-3.20-bioc/R/bin/R CMD check --install=check:a4Reporting.install-out.txt --library=/home/biocbuild/bbs-3.20-bioc/R/site-library --timings a4Reporting_1.54.0.tar.gz StartedAt: 2025-02-03 19:56:30 -0500 (Mon, 03 Feb 2025) EndedAt: 2025-02-03 19:56:48 -0500 (Mon, 03 Feb 2025) EllapsedTime: 18.0 seconds RetCode: 0 Status: OK CheckDir: a4Reporting.Rcheck Warnings: 0