Package: a4Reporting Version: 1.54.0 Command: rm -rf a4Reporting.buildbin-libdir && mkdir a4Reporting.buildbin-libdir && F:\biocbuild\bbs-3.20-bioc\R\bin\R.exe CMD INSTALL --build --library=a4Reporting.buildbin-libdir a4Reporting_1.54.0.tar.gz StartedAt: 2025-02-04 07:55:38 -0500 (Tue, 04 Feb 2025) EndedAt: 2025-02-04 07:56:03 -0500 (Tue, 04 Feb 2025) EllapsedTime: 25.4 seconds RetCode: 0 Status: OK PackageFile: a4Reporting_1.54.0.zip PackageFileSize: 433.3 KiB