Package: a4Reporting Version: 1.54.0 Command: F:\biocbuild\bbs-3.20-bioc\R\bin\R.exe CMD INSTALL a4Reporting StartedAt: 2025-01-30 15:20:38 -0500 (Thu, 30 Jan 2025) EndedAt: 2025-01-30 15:20:49 -0500 (Thu, 30 Jan 2025) EllapsedTime: 11.0 seconds RetCode: 0 Status: OK