Package: a4Reporting Version: 1.54.0 Command: /home/biocbuild/R/R/bin/R CMD build --keep-empty-dirs --no-resave-data a4Reporting StartedAt: 2025-01-30 21:27:09 -0000 (Thu, 30 Jan 2025) EndedAt: 2025-01-30 21:27:14 -0000 (Thu, 30 Jan 2025) EllapsedTime: 5.0 seconds RetCode: 0 Status: OK PackageFile: a4Reporting_1.54.0.tar.gz PackageFileSize: 357.8 KiB