Package: aCGH Version: 1.84.0 Command: /Library/Frameworks/R.framework/Resources/bin/R CMD build --keep-empty-dirs --no-resave-data aCGH StartedAt: 2025-01-30 18:34:44 -0500 (Thu, 30 Jan 2025) EndedAt: 2025-01-30 18:35:20 -0500 (Thu, 30 Jan 2025) EllapsedTime: 35.5 seconds RetCode: 0 Status: OK PackageFile: aCGH_1.84.0.tar.gz PackageFileSize: 2.218 MiB