Package: aCGH Version: 1.84.0 Command: /Library/Frameworks/R.framework/Resources/bin/R CMD check --install=check:aCGH.install-out.txt --library=/Library/Frameworks/R.framework/Resources/library --no-vignettes --timings aCGH_1.84.0.tar.gz StartedAt: 2025-01-30 23:58:40 -0500 (Thu, 30 Jan 2025) EndedAt: 2025-01-31 00:01:25 -0500 (Fri, 31 Jan 2025) EllapsedTime: 164.9 seconds RetCode: 0 Status: OK CheckDir: aCGH.Rcheck Warnings: 0