Package: aCGH Version: 1.84.0 Command: chmod a+r aCGH -R && F:\biocbuild\bbs-3.20-bioc\R\bin\R.exe CMD build --keep-empty-dirs --no-resave-data aCGH StartedAt: 2025-01-30 17:12:13 -0500 (Thu, 30 Jan 2025) EndedAt: 2025-01-30 17:13:03 -0500 (Thu, 30 Jan 2025) EllapsedTime: 50.3 seconds RetCode: 0 Status: OK PackageFile: aCGH_1.84.0.tar.gz PackageFileSize: 2.098 MiB