Package: aCGH Version: 1.84.0 Command: /home/biocbuild/R/R/bin/R CMD build --keep-empty-dirs --no-resave-data aCGH StartedAt: 2025-01-30 21:27:09 -0000 (Thu, 30 Jan 2025) EndedAt: 2025-01-30 21:27:42 -0000 (Thu, 30 Jan 2025) EllapsedTime: 33.0 seconds RetCode: 0 Status: OK PackageFile: aCGH_1.84.0.tar.gz PackageFileSize: 2.212 MiB