Package: abseqR Version: 1.24.0 Command: rm -rf abseqR.buildbin-libdir && mkdir abseqR.buildbin-libdir && /Users/biocbuild/BBS/utils/build-universal.sh abseqR_1.24.0.tar.gz /Library/Frameworks/R.framework/Resources/bin/R abseqR.buildbin-libdir StartedAt: 2025-02-05 14:43:04 -0500 (Wed, 05 Feb 2025) EndedAt: 2025-02-05 14:43:20 -0500 (Wed, 05 Feb 2025) EllapsedTime: 16.0 seconds RetCode: 0 Status: OK PackageFile: abseqR_1.24.0.tgz PackageFileSize: 2.909 MiB