Package: abseqR Version: 1.24.0 Command: /Library/Frameworks/R.framework/Resources/bin/R CMD build --keep-empty-dirs --no-resave-data abseqR StartedAt: 2025-02-03 18:23:54 -0500 (Mon, 03 Feb 2025) EndedAt: 2025-02-03 18:28:01 -0500 (Mon, 03 Feb 2025) EllapsedTime: 247.3 seconds RetCode: 0 Status: OK PackageFile: abseqR_1.24.0.tar.gz PackageFileSize: 2.901 MiB