Package: abseqR Version: 1.24.0 Command: /Library/Frameworks/R.framework/Resources/bin/R CMD check --install=check:abseqR.install-out.txt --library=/Library/Frameworks/R.framework/Resources/library --no-vignettes --timings abseqR_1.24.0.tar.gz StartedAt: 2025-02-04 10:45:45 -0500 (Tue, 04 Feb 2025) EndedAt: 2025-02-04 10:47:58 -0500 (Tue, 04 Feb 2025) EllapsedTime: 132.8 seconds RetCode: 0 Status: OK CheckDir: abseqR.Rcheck Warnings: 0