Package: abseqR Version: 1.24.0 Command: rm -rf abseqR.buildbin-libdir && mkdir abseqR.buildbin-libdir && F:\biocbuild\bbs-3.20-bioc\R\bin\R.exe CMD INSTALL --build --library=abseqR.buildbin-libdir abseqR_1.24.0.tar.gz StartedAt: 2025-02-04 07:55:38 -0500 (Tue, 04 Feb 2025) EndedAt: 2025-02-04 07:58:23 -0500 (Tue, 04 Feb 2025) EllapsedTime: 165.5 seconds RetCode: 0 Status: OK PackageFile: abseqR_1.24.0.zip PackageFileSize: 2.241 MiB