Package: abseqR Version: 1.24.0 Command: /home/biocbuild/R/R/bin/R CMD build --keep-empty-dirs --no-resave-data abseqR StartedAt: 2025-02-03 21:31:54 -0000 (Mon, 03 Feb 2025) EndedAt: 2025-02-03 21:34:12 -0000 (Mon, 03 Feb 2025) EllapsedTime: 138.1 seconds RetCode: 0 Status: OK PackageFile: abseqR_1.24.0.tar.gz PackageFileSize: 2.592 MiB