Package: abseqR Version: 1.24.0 Command: /home/biocbuild/R/R/bin/R CMD INSTALL abseqR StartedAt: 2025-02-03 20:56:43 -0000 (Mon, 03 Feb 2025) EndedAt: 2025-02-03 20:56:57 -0000 (Mon, 03 Feb 2025) EllapsedTime: 14.1 seconds RetCode: 0 Status: OK