Package: acde Version: 1.36.0 Command: rm -rf acde.buildbin-libdir && mkdir acde.buildbin-libdir && /Users/biocbuild/BBS/utils/build-universal.sh acde_1.36.0.tar.gz /Library/Frameworks/R.framework/Resources/bin/R acde.buildbin-libdir StartedAt: 2025-02-11 12:39:54 -0500 (Tue, 11 Feb 2025) EndedAt: 2025-02-11 12:40:04 -0500 (Tue, 11 Feb 2025) EllapsedTime: 9.8 seconds RetCode: 0 Status: OK PackageFile: acde_1.36.0.tgz PackageFileSize: 8.174 MiB