Package: acde Version: 1.36.0 Command: /Library/Frameworks/R.framework/Resources/bin/R CMD build --keep-empty-dirs --no-resave-data acde StartedAt: 2025-02-10 16:50:51 -0500 (Mon, 10 Feb 2025) EndedAt: 2025-02-10 16:51:26 -0500 (Mon, 10 Feb 2025) EllapsedTime: 35.3 seconds RetCode: 0 Status: OK PackageFile: acde_1.36.0.tar.gz PackageFileSize: 8.876 MiB