Package: acde Version: 1.36.0 Command: rm -rf acde.buildbin-libdir && mkdir acde.buildbin-libdir && F:\biocbuild\bbs-3.20-bioc\R\bin\R.exe CMD INSTALL --build --library=acde.buildbin-libdir acde_1.36.0.tar.gz StartedAt: 2025-02-04 07:55:38 -0500 (Tue, 04 Feb 2025) EndedAt: 2025-02-04 07:55:54 -0500 (Tue, 04 Feb 2025) EllapsedTime: 16.2 seconds RetCode: 0 Status: OK PackageFile: acde_1.36.0.zip PackageFileSize: 8.076 MiB