Package: adSplit Version: 1.76.0 Command: /Library/Frameworks/R.framework/Resources/bin/R CMD check --install=check:adSplit.install-out.txt --library=/Library/Frameworks/R.framework/Resources/library --no-vignettes --timings adSplit_1.76.0.tar.gz StartedAt: 2025-01-31 10:32:00 -0500 (Fri, 31 Jan 2025) EndedAt: 2025-01-31 10:36:24 -0500 (Fri, 31 Jan 2025) EllapsedTime: 263.9 seconds RetCode: 0 Status: OK CheckDir: adSplit.Rcheck Warnings: 0