Package: adSplit Version: 1.76.0 Command: /Library/Frameworks/R.framework/Resources/bin/R CMD INSTALL adSplit StartedAt: 2025-01-30 17:37:18 -0500 (Thu, 30 Jan 2025) EndedAt: 2025-01-30 17:37:37 -0500 (Thu, 30 Jan 2025) EllapsedTime: 19.2 seconds RetCode: 0 Status: OK