Package: adSplit Version: 1.76.0 Command: /Library/Frameworks/R.framework/Resources/bin/R CMD check --install=check:adSplit.install-out.txt --library=/Library/Frameworks/R.framework/Resources/library --no-vignettes --timings adSplit_1.76.0.tar.gz StartedAt: 2024-11-08 19:47:09 -0500 (Fri, 08 Nov 2024) EndedAt: 2024-11-08 19:52:02 -0500 (Fri, 08 Nov 2024) EllapsedTime: 292.8 seconds RetCode: 1 Status: ERROR CheckDir: adSplit.Rcheck Warnings: NA