Package: adSplit Version: 1.76.0 Command: /Library/Frameworks/R.framework/Resources/bin/R CMD INSTALL adSplit StartedAt: 2024-11-08 15:42:44 -0500 (Fri, 08 Nov 2024) EndedAt: 2024-11-08 15:42:50 -0500 (Fri, 08 Nov 2024) EllapsedTime: 6.5 seconds RetCode: 0 Status: OK