Package: adSplit Version: 1.76.0 Command: /Library/Frameworks/R.framework/Resources/bin/R CMD INSTALL adSplit StartedAt: 2024-11-19 15:37:52 -0500 (Tue, 19 Nov 2024) EndedAt: 2024-11-19 15:38:16 -0500 (Tue, 19 Nov 2024) EllapsedTime: 23.5 seconds RetCode: 0 Status: OK