Package: adSplit Version: 1.76.0 Command: rm -rf adSplit.buildbin-libdir && mkdir adSplit.buildbin-libdir && /Users/biocbuild/BBS/utils/build-universal.sh adSplit_1.76.0.tar.gz /Library/Frameworks/R.framework/Resources/bin/R adSplit.buildbin-libdir StartedAt: 2025-01-31 12:17:51 -0500 (Fri, 31 Jan 2025) EndedAt: 2025-01-31 12:18:33 -0500 (Fri, 31 Jan 2025) EllapsedTime: 42.0 seconds RetCode: 0 Status: OK PackageFile: adSplit_1.76.0.tgz PackageFileSize: 560.6 KiB