Package: adSplit Version: 1.76.0 Command: /Library/Frameworks/R.framework/Resources/bin/R CMD build --keep-empty-dirs --no-resave-data adSplit StartedAt: 2025-01-30 17:01:38 -0500 (Thu, 30 Jan 2025) EndedAt: 2025-01-30 17:06:40 -0500 (Thu, 30 Jan 2025) EllapsedTime: 302.5 seconds RetCode: 0 Status: OK PackageFile: adSplit_1.76.0.tar.gz PackageFileSize: 536.7 KiB