Package: adSplit Version: 1.76.0 Command: /Library/Frameworks/R.framework/Resources/bin/R CMD check --install=check:adSplit.install-out.txt --library=/Library/Frameworks/R.framework/Resources/library --no-vignettes --timings adSplit_1.76.0.tar.gz StartedAt: 2025-01-30 23:58:40 -0500 (Thu, 30 Jan 2025) EndedAt: 2025-01-31 00:07:28 -0500 (Fri, 31 Jan 2025) EllapsedTime: 527.4 seconds RetCode: 0 Status: OK CheckDir: adSplit.Rcheck Warnings: 0