Package: adSplit Version: 1.76.0 Command: /home/biocbuild/bbs-3.20-bioc/R/bin/R CMD check --install=check:adSplit.install-out.txt --library=/home/biocbuild/bbs-3.20-bioc/R/site-library --timings adSplit_1.76.0.tar.gz StartedAt: 2025-01-30 19:46:39 -0500 (Thu, 30 Jan 2025) EndedAt: 2025-01-30 19:52:03 -0500 (Thu, 30 Jan 2025) EllapsedTime: 324.5 seconds RetCode: 0 Status: OK CheckDir: adSplit.Rcheck Warnings: 0