Package: adSplit Version: 1.76.0 Command: /home/biocbuild/bbs-3.20-bioc/R/bin/R CMD INSTALL adSplit StartedAt: 2025-01-30 15:49:22 -0500 (Thu, 30 Jan 2025) EndedAt: 2025-01-30 15:49:42 -0500 (Thu, 30 Jan 2025) EllapsedTime: 19.6 seconds RetCode: 0 Status: OK