Package: adSplit Version: 1.76.0 Command: chmod a+r adSplit -R && F:\biocbuild\bbs-3.20-bioc\R\bin\R.exe CMD build --keep-empty-dirs --no-resave-data adSplit StartedAt: 2025-01-30 17:12:13 -0500 (Thu, 30 Jan 2025) EndedAt: 2025-01-30 17:14:43 -0500 (Thu, 30 Jan 2025) EllapsedTime: 150.2 seconds RetCode: 0 Status: OK PackageFile: adSplit_1.76.0.tar.gz PackageFileSize: 288 KiB