Package: adSplit Version: 1.76.0 Command: F:\biocbuild\bbs-3.20-bioc\R\bin\R.exe CMD INSTALL adSplit StartedAt: 2025-01-30 16:39:32 -0500 (Thu, 30 Jan 2025) EndedAt: 2025-01-30 16:39:54 -0500 (Thu, 30 Jan 2025) EllapsedTime: 22.0 seconds RetCode: 0 Status: OK