Package: adSplit Version: 1.76.0 Command: /home/biocbuild/R/R/bin/R CMD build --keep-empty-dirs --no-resave-data adSplit StartedAt: 2025-01-30 21:27:20 -0000 (Thu, 30 Jan 2025) EndedAt: 2025-01-30 21:29:58 -0000 (Thu, 30 Jan 2025) EllapsedTime: 158.1 seconds RetCode: 0 Status: OK PackageFile: adSplit_1.76.0.tar.gz PackageFileSize: 526.1 KiB