Package: adductomicsR Version: 1.22.0 Command: rm -rf adductomicsR.buildbin-libdir && mkdir adductomicsR.buildbin-libdir && /Users/biocbuild/BBS/utils/build-universal.sh adductomicsR_1.22.0.tar.gz /Library/Frameworks/R.framework/Resources/bin/R adductomicsR.buildbin-libdir StartedAt: 2025-02-01 13:48:39 -0500 (Sat, 01 Feb 2025) EndedAt: 2025-02-01 13:49:10 -0500 (Sat, 01 Feb 2025) EllapsedTime: 30.4 seconds RetCode: 0 Status: OK PackageFile: adductomicsR_1.22.0.tgz PackageFileSize: 1.225 MiB