Package: adductomicsR Version: 1.22.0 Command: /Library/Frameworks/R.framework/Resources/bin/R CMD build --keep-empty-dirs --no-resave-data adductomicsR StartedAt: 2025-01-30 18:36:42 -0500 (Thu, 30 Jan 2025) EndedAt: 2025-01-30 18:39:00 -0500 (Thu, 30 Jan 2025) EllapsedTime: 137.2 seconds RetCode: 0 Status: OK PackageFile: adductomicsR_1.22.0.tar.gz PackageFileSize: 752 KiB