Package: adductomicsR Version: 1.22.0 Command: /Library/Frameworks/R.framework/Resources/bin/R CMD check --install=check:adductomicsR.install-out.txt --library=/Library/Frameworks/R.framework/Resources/library --no-vignettes --timings adductomicsR_1.22.0.tar.gz StartedAt: 2025-01-31 10:30:58 -0500 (Fri, 31 Jan 2025) EndedAt: 2025-01-31 10:34:52 -0500 (Fri, 31 Jan 2025) EllapsedTime: 233.6 seconds RetCode: 0 Status: WARNINGS CheckDir: adductomicsR.Rcheck Warnings: 1