Package: adductomicsR Version: 1.22.0 Command: /Library/Frameworks/R.framework/Resources/bin/R CMD INSTALL adductomicsR StartedAt: 2025-01-30 17:09:26 -0500 (Thu, 30 Jan 2025) EndedAt: 2025-01-30 17:09:54 -0500 (Thu, 30 Jan 2025) EllapsedTime: 28.0 seconds RetCode: 0 Status: OK