Package: adductomicsR Version: 1.22.0 Command: rm -rf adductomicsR.buildbin-libdir && mkdir adductomicsR.buildbin-libdir && /Users/biocbuild/BBS/utils/build-universal.sh adductomicsR_1.22.0.tar.gz /Library/Frameworks/R.framework/Resources/bin/R adductomicsR.buildbin-libdir StartedAt: 2025-01-31 12:17:51 -0500 (Fri, 31 Jan 2025) EndedAt: 2025-01-31 12:18:50 -0500 (Fri, 31 Jan 2025) EllapsedTime: 59.1 seconds RetCode: 0 Status: OK PackageFile: adductomicsR_1.22.0.tgz PackageFileSize: 1.225 MiB